BEGIN:VCALENDAR
VERSION:2.0
PRODID:-//FODGAC.fr - ECPv6.15.20//NONSGML v1.0//EN
CALSCALE:GREGORIAN
METHOD:PUBLISH
X-WR-CALNAME:FODGAC.fr
X-ORIGINAL-URL:https://fodgac.fr
X-WR-CALDESC:Évènements pour FODGAC.fr
REFRESH-INTERVAL;VALUE=DURATION:PT1H
X-Robots-Tag:noindex
X-PUBLISHED-TTL:PT1H
BEGIN:VTIMEZONE
TZID:Europe/Paris
BEGIN:DAYLIGHT
TZOFFSETFROM:+0100
TZOFFSETTO:+0200
TZNAME:CEST
DTSTART:20240331T010000
END:DAYLIGHT
BEGIN:STANDARD
TZOFFSETFROM:+0200
TZOFFSETTO:+0100
TZNAME:CET
DTSTART:20241027T010000
END:STANDARD
BEGIN:DAYLIGHT
TZOFFSETFROM:+0100
TZOFFSETTO:+0200
TZNAME:CEST
DTSTART:20250330T010000
END:DAYLIGHT
BEGIN:STANDARD
TZOFFSETFROM:+0200
TZOFFSETTO:+0100
TZNAME:CET
DTSTART:20251026T010000
END:STANDARD
BEGIN:DAYLIGHT
TZOFFSETFROM:+0100
TZOFFSETTO:+0200
TZNAME:CEST
DTSTART:20260329T010000
END:DAYLIGHT
BEGIN:STANDARD
TZOFFSETFROM:+0200
TZOFFSETTO:+0100
TZNAME:CET
DTSTART:20261025T010000
END:STANDARD
END:VTIMEZONE
BEGIN:VEVENT
DTSTART;TZID=Europe/Paris:20251003T093000
DTEND;TZID=Europe/Paris:20251003T123000
DTSTAMP:20260425T203437
CREATED:20250203T093124Z
LAST-MODIFIED:20250203T093131Z
UID:19292-1759483800-1759494600@fodgac.fr
SUMMARY:Comité de suivi du protocole
DESCRIPTION:Salle 005
URL:https://fodgac.fr/evenement/comite-de-suivi-du-protocole-3/
END:VEVENT
BEGIN:VEVENT
DTSTART;TZID=Europe/Paris:20251014T090000
DTEND;TZID=Europe/Paris:20251014T120000
DTSTAMP:20260425T203437
CREATED:20251006T081152Z
LAST-MODIFIED:20251006T081154Z
UID:20450-1760432400-1760443200@fodgac.fr
SUMMARY:GSPST
DESCRIPTION:Salle 4014
URL:https://fodgac.fr/evenement/gspst-16/
END:VEVENT
BEGIN:VEVENT
DTSTART;TZID=Europe/Paris:20251014T140000
DTEND;TZID=Europe/Paris:20251014T170000
DTSTAMP:20260425T203437
CREATED:20250203T093221Z
LAST-MODIFIED:20250203T093227Z
UID:19294-1760450400-1760461200@fodgac.fr
SUMMARY:CSA-R DGAC
DESCRIPTION:Salle 7000
URL:https://fodgac.fr/evenement/csa-r-dgac-7/
END:VEVENT
BEGIN:VEVENT
DTSTART;TZID=Europe/Paris:20251015T164500
DTEND;TZID=Europe/Paris:20251015T164500
DTSTAMP:20260425T203437
CREATED:20251007T122718Z
LAST-MODIFIED:20251007T122721Z
UID:20456-1760546700-1760546700@fodgac.fr
SUMMARY:Bilan ITM
DESCRIPTION:Visio
URL:https://fodgac.fr/evenement/bilan-itm/
END:VEVENT
BEGIN:VEVENT
DTSTART;TZID=Europe/Paris:20251017T093000
DTEND;TZID=Europe/Paris:20251017T123000
DTSTAMP:20260425T203437
CREATED:20250203T093322Z
LAST-MODIFIED:20250203T093328Z
UID:19296-1760693400-1760704200@fodgac.fr
SUMMARY:FS-R
DESCRIPTION:Salle 005
URL:https://fodgac.fr/evenement/fs-r-2/
END:VEVENT
BEGIN:VEVENT
DTSTART;TZID=Europe/Paris:20251021T153000
DTEND;TZID=Europe/Paris:20251021T170000
DTSTAMP:20260425T203437
CREATED:20250828T075306Z
LAST-MODIFIED:20250828T075308Z
UID:20327-1761060600-1761066000@fodgac.fr
SUMMARY:Réunion OS élections
DESCRIPTION:Visio
URL:https://fodgac.fr/evenement/reunion-os-elections-2/
END:VEVENT
BEGIN:VEVENT
DTSTART;TZID=Europe/Paris:20251022T100000
DTEND;TZID=Europe/Paris:20251022T120000
DTSTAMP:20260425T203437
CREATED:20250930T122531Z
LAST-MODIFIED:20250930T122533Z
UID:20443-1761127200-1761134400@fodgac.fr
SUMMARY:GT6 – Licence ANSO
DESCRIPTION:Visio
URL:https://fodgac.fr/evenement/gt6-licence-anso/
END:VEVENT
BEGIN:VEVENT
DTSTART;TZID=Europe/Paris:20251022T143000
DTEND;TZID=Europe/Paris:20251022T143000
DTSTAMP:20260425T203437
CREATED:20250930T122720Z
LAST-MODIFIED:20250930T122722Z
UID:20445-1761143400-1761143400@fodgac.fr
SUMMARY:GT 15 « pack attractivité outre-mer » #2
DESCRIPTION:Salle 5008
URL:https://fodgac.fr/evenement/gt-15-pack-attractivite-outre-mer-2/
END:VEVENT
BEGIN:VEVENT
DTSTART;TZID=Europe/Paris:20251023T140000
DTEND;TZID=Europe/Paris:20251023T140000
DTSTAMP:20260425T203437
CREATED:20251016T092633Z
LAST-MODIFIED:20251016T092635Z
UID:20528-1761228000-1761228000@fodgac.fr
SUMMARY:Stratégie immobilière 2026-2030
DESCRIPTION:Visio
URL:https://fodgac.fr/evenement/strategie-immobiliere-2026-2030/
END:VEVENT
BEGIN:VEVENT
DTSTART;TZID=Europe/Paris:20251030T093000
DTEND;TZID=Europe/Paris:20251030T113000
DTSTAMP:20260425T203437
CREATED:20251020T134258Z
LAST-MODIFIED:20251020T134302Z
UID:20552-1761816600-1761823800@fodgac.fr
SUMMARY:Réunions plénières
DESCRIPTION:
URL:https://fodgac.fr/evenement/reunions-plenieres/
END:VEVENT
END:VCALENDAR