BEGIN:VCALENDAR
VERSION:2.0
PRODID:-//FODGAC.fr - ECPv6.15.20//NONSGML v1.0//EN
CALSCALE:GREGORIAN
METHOD:PUBLISH
X-ORIGINAL-URL:https://fodgac.fr
X-WR-CALDESC:Évènements pour FODGAC.fr
REFRESH-INTERVAL;VALUE=DURATION:PT1H
X-Robots-Tag:noindex
X-PUBLISHED-TTL:PT1H
BEGIN:VTIMEZONE
TZID:Europe/Paris
BEGIN:DAYLIGHT
TZOFFSETFROM:+0100
TZOFFSETTO:+0200
TZNAME:CEST
DTSTART:20250330T010000
END:DAYLIGHT
BEGIN:STANDARD
TZOFFSETFROM:+0200
TZOFFSETTO:+0100
TZNAME:CET
DTSTART:20251026T010000
END:STANDARD
BEGIN:DAYLIGHT
TZOFFSETFROM:+0100
TZOFFSETTO:+0200
TZNAME:CEST
DTSTART:20260329T010000
END:DAYLIGHT
BEGIN:STANDARD
TZOFFSETFROM:+0200
TZOFFSETTO:+0100
TZNAME:CET
DTSTART:20261025T010000
END:STANDARD
BEGIN:DAYLIGHT
TZOFFSETFROM:+0100
TZOFFSETTO:+0200
TZNAME:CEST
DTSTART:20270328T010000
END:DAYLIGHT
BEGIN:STANDARD
TZOFFSETFROM:+0200
TZOFFSETTO:+0100
TZNAME:CET
DTSTART:20271031T010000
END:STANDARD
END:VTIMEZONE
BEGIN:VEVENT
DTSTART;TZID=Europe/Paris:20260116T100000
DTEND;TZID=Europe/Paris:20260116T100000
DTSTAMP:20260425T155027
CREATED:20260120T143616Z
LAST-MODIFIED:20260120T143618Z
UID:21223-1768557600-1768557600@fodgac.fr
SUMMARY:SDRH EF RTAC
DESCRIPTION:Visio
URL:https://fodgac.fr/evenement/sdrh-ef-rtac/
END:VEVENT
BEGIN:VEVENT
DTSTART;TZID=Europe/Paris:20260120T090000
DTEND;TZID=Europe/Paris:20260120T180000
DTSTAMP:20260425T155027
CREATED:20260120T151915Z
LAST-MODIFIED:20260120T151917Z
UID:21279-1768899600-1768932000@fodgac.fr
SUMMARY:CSA DSNA 3
DESCRIPTION:
URL:https://fodgac.fr/evenement/csa-dsna-3-2/
END:VEVENT
BEGIN:VEVENT
DTSTART;TZID=Europe/Paris:20260120T143000
DTEND;TZID=Europe/Paris:20260120T143000
DTSTAMP:20260425T155027
CREATED:20251006T081340Z
LAST-MODIFIED:20251119T151347Z
UID:20452-1768919400-1768919400@fodgac.fr
SUMMARY:INCO
DESCRIPTION:Salle 5008
URL:https://fodgac.fr/evenement/inco-4/
END:VEVENT
BEGIN:VEVENT
DTSTART;TZID=Europe/Paris:20260123T143000
DTEND;TZID=Europe/Paris:20260123T143000
DTSTAMP:20260425T155027
CREATED:20260120T143751Z
LAST-MODIFIED:20260120T143753Z
UID:21225-1769178600-1769178600@fodgac.fr
SUMMARY:SNIA SPSI 2026-2030
DESCRIPTION:Farman Salle 5008
URL:https://fodgac.fr/evenement/snia-spsi-2026-2030/
END:VEVENT
BEGIN:VEVENT
DTSTART;TZID=Europe/Paris:20260126T100000
DTEND;TZID=Europe/Paris:20260126T120000
DTSTAMP:20260425T155027
CREATED:20260120T143842Z
LAST-MODIFIED:20260120T143843Z
UID:21227-1769421600-1769428800@fodgac.fr
SUMMARY:Arrêté Filière ATC Mazincourt
DESCRIPTION:Farman
URL:https://fodgac.fr/evenement/arrete-filiere-atc-mazincourt/
END:VEVENT
BEGIN:VEVENT
DTSTART;TZID=Europe/Paris:20260126T140000
DTEND;TZID=Europe/Paris:20260126T140000
DTSTAMP:20260425T155027
CREATED:20260120T143947Z
LAST-MODIFIED:20260120T143949Z
UID:21229-1769436000-1769436000@fodgac.fr
SUMMARY:Réunion élections 2026
DESCRIPTION:Visio
URL:https://fodgac.fr/evenement/reunion-elections-2026/
END:VEVENT
BEGIN:VEVENT
DTSTART;TZID=Europe/Paris:20260127T093000
DTEND;TZID=Europe/Paris:20260127T120000
DTSTAMP:20260425T155027
CREATED:20260120T144104Z
LAST-MODIFIED:20260120T144106Z
UID:21231-1769506200-1769515200@fodgac.fr
SUMMARY:DO – R° GT NUIT
DESCRIPTION:Farman – Salle 3008
URL:https://fodgac.fr/evenement/do-r-gt-nuit/
END:VEVENT
BEGIN:VEVENT
DTSTART;TZID=Europe/Paris:20260127T140000
DTEND;TZID=Europe/Paris:20260127T170000
DTSTAMP:20260425T155027
CREATED:20251201T141110Z
LAST-MODIFIED:20251201T141112Z
UID:21040-1769522400-1769533200@fodgac.fr
SUMMARY:CPPS
DESCRIPTION:Salle 5008
URL:https://fodgac.fr/evenement/cpps-5/
END:VEVENT
BEGIN:VEVENT
DTSTART;TZID=Europe/Paris:20260128T140000
DTEND;TZID=Europe/Paris:20260128T140000
DTSTAMP:20260425T155027
CREATED:20250828T075508Z
LAST-MODIFIED:20251201T140320Z
UID:20331-1769608800-1769608800@fodgac.fr
SUMMARY:CSN QVCT
DESCRIPTION:
URL:https://fodgac.fr/evenement/csn-qvct-3/
END:VEVENT
BEGIN:VEVENT
DTSTART;TZID=Europe/Paris:20260129T190000
DTEND;TZID=Europe/Paris:20260129T190000
DTSTAMP:20260425T155027
CREATED:20260120T144221Z
LAST-MODIFIED:20260120T144223Z
UID:21233-1769713200-1769713200@fodgac.fr
SUMMARY:SEAC PF
DESCRIPTION:Visio
URL:https://fodgac.fr/evenement/seac-pf/
END:VEVENT
BEGIN:VEVENT
DTSTART;TZID=Europe/Paris:20260130T100000
DTEND;TZID=Europe/Paris:20260130T100000
DTSTAMP:20260425T155027
CREATED:20251114T160027Z
LAST-MODIFIED:20251114T160029Z
UID:20953-1769767200-1769767200@fodgac.fr
SUMMARY:GT 8 Carrière TSEEAC
DESCRIPTION:Visio
URL:https://fodgac.fr/evenement/gt-8-carriere-tseeac-3/
END:VEVENT
BEGIN:VEVENT
DTSTART;TZID=Europe/Paris:20260130T150000
DTEND;TZID=Europe/Paris:20260130T160000
DTSTAMP:20260425T155027
CREATED:20260120T144320Z
LAST-MODIFIED:20260120T144322Z
UID:21235-1769785200-1769788800@fodgac.fr
SUMMARY:Information SOC
DESCRIPTION:
URL:https://fodgac.fr/evenement/information-soc/
END:VEVENT
END:VCALENDAR