BEGIN:VCALENDAR
VERSION:2.0
PRODID:-//FODGAC.fr - ECPv6.15.20//NONSGML v1.0//EN
CALSCALE:GREGORIAN
METHOD:PUBLISH
X-ORIGINAL-URL:https://fodgac.fr
X-WR-CALDESC:Évènements pour FODGAC.fr
REFRESH-INTERVAL;VALUE=DURATION:PT1H
X-Robots-Tag:noindex
X-PUBLISHED-TTL:PT1H
BEGIN:VTIMEZONE
TZID:Europe/Paris
BEGIN:DAYLIGHT
TZOFFSETFROM:+0100
TZOFFSETTO:+0200
TZNAME:CEST
DTSTART:20250330T010000
END:DAYLIGHT
BEGIN:STANDARD
TZOFFSETFROM:+0200
TZOFFSETTO:+0100
TZNAME:CET
DTSTART:20251026T010000
END:STANDARD
BEGIN:DAYLIGHT
TZOFFSETFROM:+0100
TZOFFSETTO:+0200
TZNAME:CEST
DTSTART:20260329T010000
END:DAYLIGHT
BEGIN:STANDARD
TZOFFSETFROM:+0200
TZOFFSETTO:+0100
TZNAME:CET
DTSTART:20261025T010000
END:STANDARD
BEGIN:DAYLIGHT
TZOFFSETFROM:+0100
TZOFFSETTO:+0200
TZNAME:CEST
DTSTART:20270328T010000
END:DAYLIGHT
BEGIN:STANDARD
TZOFFSETFROM:+0200
TZOFFSETTO:+0100
TZNAME:CET
DTSTART:20271031T010000
END:STANDARD
END:VTIMEZONE
BEGIN:VEVENT
DTSTART;TZID=Europe/Paris:20260504T093000
DTEND;TZID=Europe/Paris:20260504T170000
DTSTAMP:20260425T124626
CREATED:20260407T080833Z
LAST-MODIFIED:20260407T080834Z
UID:21547-1777887000-1777914000@fodgac.fr
SUMMARY:Réunion formation et recrutement IESSA
DESCRIPTION:Athis
URL:https://fodgac.fr/evenement/reunion-formation-et-recrutement-iessa/
END:VEVENT
BEGIN:VEVENT
DTSTART;TZID=Europe/Paris:20260506T090000
DTEND;TZID=Europe/Paris:20260506T120000
DTSTAMP:20260425T124626
CREATED:20260224T124217Z
LAST-MODIFIED:20260224T124219Z
UID:21420-1778058000-1778068800@fodgac.fr
SUMMARY:MAJ de la NIT PCU
DESCRIPTION:Visio
URL:https://fodgac.fr/evenement/maj-de-la-nit-pcu/
END:VEVENT
BEGIN:VEVENT
DTSTART;TZID=Europe/Paris:20260506T163000
DTEND;TZID=Europe/Paris:20260506T163000
DTSTAMP:20260425T124626
CREATED:20260327T155136Z
LAST-MODIFIED:20260327T155138Z
UID:21534-1778085000-1778085000@fodgac.fr
SUMMARY:Dépouillement élections tests
DESCRIPTION:Visio
URL:https://fodgac.fr/evenement/depouillement-elections-tests/
END:VEVENT
BEGIN:VEVENT
DTSTART;TZID=Europe/Paris:20260519T090000
DTEND;TZID=Europe/Paris:20260519T110000
DTSTAMP:20260425T124626
CREATED:20260224T141103Z
LAST-MODIFIED:20260224T141105Z
UID:21428-1779181200-1779188400@fodgac.fr
SUMMARY:Réunion OS élections
DESCRIPTION:Visio
URL:https://fodgac.fr/evenement/reunion-os-elections-5/
END:VEVENT
BEGIN:VEVENT
DTSTART;TZID=Europe/Paris:20260521T143000
DTEND;TZID=Europe/Paris:20260521T163000
DTSTAMP:20260425T124626
CREATED:20260305T132220Z
LAST-MODIFIED:20260305T132222Z
UID:21447-1779373800-1779381000@fodgac.fr
SUMMARY:Réunion n°4 GT 15 « pack attractivité outre-mer »
DESCRIPTION:Salle 5008
URL:https://fodgac.fr/evenement/reunion-n4-gt-15-pack-attractivite-outre-mer/
END:VEVENT
END:VCALENDAR